BEGIN:VCALENDAR
VERSION:2.0
PRODID:-//Jaimie E. Miller - ECPv5.5.0.1//NONSGML v1.0//EN
CALSCALE:GREGORIAN
METHOD:PUBLISH
X-WR-CALNAME:Jaimie E. Miller
X-ORIGINAL-URL:https://jermiller.com
X-WR-CALDESC:Events for Jaimie E. Miller
BEGIN:VTIMEZONE
TZID:America/New_York
BEGIN:DAYLIGHT
TZOFFSETFROM:-0500
TZOFFSETTO:-0400
TZNAME:EDT
DTSTART:20200308T070000
END:DAYLIGHT
BEGIN:STANDARD
TZOFFSETFROM:-0400
TZOFFSETTO:-0500
TZNAME:EST
DTSTART:20201101T060000
END:STANDARD
END:VTIMEZONE
BEGIN:VEVENT
DTSTART;TZID=America/New_York:20200222T090000
DTEND;TZID=America/New_York:20200222T150000
DTSTAMP:20260423T184352
CREATED:20200221T000841Z
LAST-MODIFIED:20200221T000841Z
UID:4176-1582362000-1582383600@jermiller.com
SUMMARY:Warner Robins Jeep Club 3rd Annual Jeep Show
DESCRIPTION:Related
URL:https://jermiller.com/event/warner-robins-jeep-club-3rd-annual-jeep-show/
LOCATION:Museum of Aviation\, 1942 Heritage Blvd\, RAFB\, 31098\, United States
END:VEVENT
END:VCALENDAR