BEGIN:VCALENDAR
VERSION:2.0
PRODID:-//Jaimie E. Miller - ECPv5.5.0.1//NONSGML v1.0//EN
CALSCALE:GREGORIAN
METHOD:PUBLISH
X-WR-CALNAME:Jaimie E. Miller
X-ORIGINAL-URL:https://jermiller.com
X-WR-CALDESC:Events for Jaimie E. Miller
BEGIN:VTIMEZONE
TZID:America/New_York
BEGIN:DAYLIGHT
TZOFFSETFROM:-0500
TZOFFSETTO:-0400
TZNAME:EDT
DTSTART:20180311T070000
END:DAYLIGHT
BEGIN:STANDARD
TZOFFSETFROM:-0400
TZOFFSETTO:-0500
TZNAME:EST
DTSTART:20181104T060000
END:STANDARD
END:VTIMEZONE
BEGIN:VEVENT
DTSTART;TZID=America/New_York:20180721T160000
DTEND;TZID=America/New_York:20180721T200000
DTSTAMP:20260425T210711
CREATED:20180702T014508Z
LAST-MODIFIED:20180702T014508Z
UID:1648-1532188800-1532203200@jermiller.com
SUMMARY:Book Signing at Middle Georgia Indie Book Fest
DESCRIPTION:Related
URL:https://jermiller.com/event/book-signing-at-middle-georgia-indie-book-fest/
LOCATION:Between Friends Coffeeshop & Cafe\, 1080 Hwy 96\, Suite 100\, Warner Robins\, GA\, 31088\, United States
CATEGORIES:Book Signing
ATTACH;FMTTYPE=image/png:https://jermiller.com/wp-content/uploads/2018/07/booksigning.png
ORGANIZER;CN="Between%20Friends%20Coffeeshop%20%26%20Cafe":MAILTO:betweenfriendscoffeecafe@gmail.com
END:VEVENT
END:VCALENDAR